BEGIN:VCALENDAR
VERSION:2.0
PRODID:-//Documentación de Comerssia - ECPv4.1.0.1//NONSGML v1.0//EN
CALSCALE:GREGORIAN
METHOD:PUBLISH
X-WR-CALNAME:Documentación de Comerssia
X-ORIGINAL-URL:https://www.comerssia.com/ComerssiaDocumentacion
X-WR-CALDESC:Events for Documentación de Comerssia
BEGIN:VEVENT
DTSTART;TZID="UTC-5":20250507T093000
DTEND;TZID="UTC-5":20250507T103000
DTSTAMP:20260422T064014
CREATED:20250505T210245
LAST-MODIFIED:20250505T210328
UID:9403-1746610200-1746613800@www.comerssia.com
SUMMARY:Retail Inteligente: Cómo Unificar Datos Online y Offline para Aumentar Ventas
DESCRIPTION:¿Sabes si estás dejando datos valiosos en el camino? 🔎\n\nSi tu marca vende en tienda física y online\, pero tus datos no están conectados… estás perdiendo oportunidades de fidelización y ventas todos los días.\n\nEste miércoles 7 de mayo\, te invitamos a un webinar exclusivo junto a Comerssia | WoowUp\, donde además podrás conocer cómo Almacenes Brissa optimizó la fidelización y la recompra con una visión 360° de sus clientes.\n\n📍 Online y gratuito - Zoom\n⏰ Miércoles 7 de mayo - 09:30 a.m. CO\n🖱 Regístrate ahora mismo acá → https://hubs.la/Q03l2rdC0\n\n
URL:https://www.comerssia.com/ComerssiaDocumentacion/index.php/evento/9403/
END:VEVENT
END:VCALENDAR