BEGIN:VCALENDAR
VERSION:2.0
PRODID:-//Documentación de Comerssia - ECPv4.1.0.1//NONSGML v1.0//EN
CALSCALE:GREGORIAN
METHOD:PUBLISH
X-WR-CALNAME:Documentación de Comerssia
X-ORIGINAL-URL:https://www.comerssia.com/ComerssiaDocumentacion
X-WR-CALDESC:Events for Documentación de Comerssia
BEGIN:VEVENT
DTSTART;TZID="UTC-5":20170215T080000
DTEND;TZID="UTC-5":20170215T120000
DTSTAMP:20260422T104842
CREATED:20170123T154032
LAST-MODIFIED:20170123T154748
UID:2473-1487145600-1487160000@www.comerssia.com
SUMMARY:EVENTO NOVEDADES COMERSSIA 2017
DESCRIPTION:Hola\,\n\n\n\nDeseamos que este año 2017 esté lleno de éxitos personales y profesionales.\n \nEl próximo 15 de febrero nos gustaría contar con su compañía en un evento en el que daremos un vistazo de actualidad a las tendencias tecnológicas en Retail y a las novedades funcionales que Comerssia tiene preparadas para este año.\n \nAgradecemos enviar su confirmación al correo saram.ramirez@comerssia.com.\n\n\n
URL:https://www.comerssia.com/ComerssiaDocumentacion/index.php/evento/evento-novedades-comerssia-2017/
LOCATION:Calle 113 # 7-80 Piso 2\, Bogotá\, Colombia
CATEGORIES:Eventos
ATTACH;FMTTYPE=image/jpeg:https://www.comerssia.com/ComerssiaDocumentacion/wp-content/uploads/2017/01/Invitacion-e1485185916253.jpg
ORGANIZER;CN="Sara%20Ram%C3%ADrez":MAILTO:saram.ramirez@comerssia.com
END:VEVENT
END:VCALENDAR